BEGIN:VCALENDAR
VERSION:2.0
PRODID:-//La Petite écurie dans la Prairie - ECPv5.3.2.1//NONSGML v1.0//EN
CALSCALE:GREGORIAN
METHOD:PUBLISH
X-WR-CALNAME:La Petite écurie dans la Prairie
X-ORIGINAL-URL:http://www.la-petite-ecurie.com
X-WR-CALDESC:évènements pour La Petite écurie dans la Prairie
BEGIN:VTIMEZONE
TZID:Europe/Paris
BEGIN:DAYLIGHT
TZOFFSETFROM:+0100
TZOFFSETTO:+0200
TZNAME:CEST
DTSTART:20140330T010000
END:DAYLIGHT
BEGIN:STANDARD
TZOFFSETFROM:+0200
TZOFFSETTO:+0100
TZNAME:CET
DTSTART:20141026T010000
END:STANDARD
END:VTIMEZONE
BEGIN:VEVENT
DTSTART;VALUE=DATE:20140707
DTEND;VALUE=DATE:20140712
DTSTAMP:20260424T174740
CREATED:20140427T191942Z
LAST-MODIFIED:20140427T201305Z
UID:3221-1404691200-1405123199@www.la-petite-ecurie.com
SUMMARY:Ethologie 10/14 ans
DESCRIPTION:Du 7 au 11 juillet 2014\n\nETHOLOGIE – EQUITATION NATURELLE :\n10 /14 ans :\n« Mieux comprendre\, mieux communiquer avec le cheval\, pour mieux le monter » : 420€\nhébergement\, activités équestres\, repas avec produits locaux/bio\, veillées… \nHébergement en tipis ou sous toiles de tente – repas à base de produits bio et locaux.\nStructure agrée par la DDCS et l’inspection académique.\nUne équipe chaleureuse et diplomée : directrice BAFD\, moniteurs d’équitation et animateurs.
URL:http://www.la-petite-ecurie.com/events/vacances-scolaires-7-au-11-juillet-2014/
LOCATION:La Petite Ecurie dans la Prairie\, Kerlan\, Lauzach\, Bretagne\, 56190\, France
ORGANIZER;CN="Nathalie%20Breyer":MAILTO:la petite écurie dans la prairie &lt;lapetiteecurie@orange.fr&gt;
END:VEVENT
END:VCALENDAR